BEGIN:VCALENDAR
VERSION:2.0
PRODID:-//Angustias y Soledad de León - ECPv6.15.20//NONSGML v1.0//EN
CALSCALE:GREGORIAN
METHOD:PUBLISH
X-ORIGINAL-URL:https://www.angustiasysoledad.org
X-WR-CALDESC:Eventos para Angustias y Soledad de León
REFRESH-INTERVAL;VALUE=DURATION:PT1H
X-Robots-Tag:noindex
X-PUBLISHED-TTL:PT1H
BEGIN:VTIMEZONE
TZID:Europe/Madrid
BEGIN:DAYLIGHT
TZOFFSETFROM:+0100
TZOFFSETTO:+0200
TZNAME:CEST
DTSTART:20230326T010000
END:DAYLIGHT
BEGIN:STANDARD
TZOFFSETFROM:+0200
TZOFFSETTO:+0100
TZNAME:CET
DTSTART:20231029T010000
END:STANDARD
BEGIN:DAYLIGHT
TZOFFSETFROM:+0100
TZOFFSETTO:+0200
TZNAME:CEST
DTSTART:20240331T010000
END:DAYLIGHT
BEGIN:STANDARD
TZOFFSETFROM:+0200
TZOFFSETTO:+0100
TZNAME:CET
DTSTART:20241027T010000
END:STANDARD
BEGIN:DAYLIGHT
TZOFFSETFROM:+0100
TZOFFSETTO:+0200
TZNAME:CEST
DTSTART:20250330T010000
END:DAYLIGHT
BEGIN:STANDARD
TZOFFSETFROM:+0200
TZOFFSETTO:+0100
TZNAME:CET
DTSTART:20251026T010000
END:STANDARD
END:VTIMEZONE
BEGIN:VEVENT
DTSTART;TZID=Europe/Madrid:20240302T130000
DTEND;TZID=Europe/Madrid:20240302T140000
DTSTAMP:20260419T181311
CREATED:20240127T154452Z
LAST-MODIFIED:20240127T154452Z
UID:9579-1709384400-1709388000@www.angustiasysoledad.org
SUMMARY:Reunión de Paso: Virgen de la Consolación.
DESCRIPTION:
URL:https://www.angustiasysoledad.org/evento/reunion-de-paso-virgen-de-la-consolacion/
LOCATION:Casa de Hermandad\, Calle Máximo Cayón Waldaliso\, 7\, León\, León\, España
CATEGORIES:Evento
END:VEVENT
BEGIN:VEVENT
DTSTART;TZID=Europe/Madrid:20240309T134500
DTEND;TZID=Europe/Madrid:20240309T150000
DTSTAMP:20260419T181311
CREATED:20240124T101117Z
LAST-MODIFIED:20240124T101517Z
UID:9560-1709991900-1709996400@www.angustiasysoledad.org
SUMMARY:Reunión de Paso: San Juan.
DESCRIPTION:Convocatoria de Reunión de Paso: San Juan.
URL:https://www.angustiasysoledad.org/evento/reunion-de-paso-san-juan/
LOCATION:Casa de Hermandad\, Calle Máximo Cayón Waldaliso\, 7\, León\, León\, España
CATEGORIES:Evento
END:VEVENT
BEGIN:VEVENT
DTSTART;TZID=Europe/Madrid:20240316T123000
DTEND;TZID=Europe/Madrid:20240316T133000
DTSTAMP:20260419T181311
CREATED:20240124T101303Z
LAST-MODIFIED:20240124T101303Z
UID:9563-1710592200-1710595800@www.angustiasysoledad.org
SUMMARY:Reunión de Paso: Cristo Yacente.
DESCRIPTION:Convocatoria de Reunión de Paso: Cristo Yacente.
URL:https://www.angustiasysoledad.org/evento/reunion-de-paso-cristo-yacente/
LOCATION:Casa de Hermandad\, Calle Máximo Cayón Waldaliso\, 7\, León\, León\, España
CATEGORIES:Evento
END:VEVENT
BEGIN:VEVENT
DTSTART;TZID=Europe/Madrid:20240319T201500
DTEND;TZID=Europe/Madrid:20240319T210000
DTSTAMP:20260419T181311
CREATED:20240107T204957Z
LAST-MODIFIED:20240320T204502Z
UID:9489-1710879300-1710882000@www.angustiasysoledad.org
SUMMARY:Triduo en Honor de Nuestras Titulares.
DESCRIPTION:
URL:https://www.angustiasysoledad.org/evento/triduo-en-honor-de-nuestras-titulares-2/
LOCATION:Iglesia de Santa Nonia\, Calle Santa Nonia\, 26\, León\, León\, 24004\, España
CATEGORIES:Evento
END:VEVENT
BEGIN:VEVENT
DTSTART;TZID=Europe/Madrid:20240321T120000
DTEND;TZID=Europe/Madrid:20240321T213000
DTSTAMP:20260419T181311
CREATED:20240107T205057Z
LAST-MODIFIED:20240320T221342Z
UID:9492-1711022400-1711056600@www.angustiasysoledad.org
SUMMARY:Solemne Besamanos a la Virgen de la Soledad.
DESCRIPTION:
URL:https://www.angustiasysoledad.org/evento/solemne-besamanos-a-la-virgen-de-la-soledad/
LOCATION:Iglesia de Santa Nonia\, Calle Santa Nonia\, 26\, León\, León\, 24004\, España
CATEGORIES:Evento
END:VEVENT
BEGIN:VEVENT
DTSTART;TZID=Europe/Madrid:20240322T200000
DTEND;TZID=Europe/Madrid:20240322T235500
DTSTAMP:20260419T181311
CREATED:20240307T205155Z
LAST-MODIFIED:20240320T205048Z
UID:9495-1711137600-1711151700@www.angustiasysoledad.org
SUMMARY:Viernes de Dolores
DESCRIPTION:
URL:https://www.angustiasysoledad.org/evento/viernes-de-dolores/
LOCATION:Iglesia de Nuestra Señora del Mercado.\, Plaza del Grano\, León\, León\, 24005
CATEGORIES:Evento
END:VEVENT
BEGIN:VEVENT
DTSTART;TZID=Europe/Madrid:20240324T080000
DTEND;TZID=Europe/Madrid:20240324T100000
DTSTAMP:20260419T181311
CREATED:20240320T200034Z
LAST-MODIFIED:20240320T205610Z
UID:9498-1711267200-1711274400@www.angustiasysoledad.org
SUMMARY:Domingo de Ramos: Procesión de las Palmas y Santa Misa.
DESCRIPTION:
URL:https://www.angustiasysoledad.org/evento/domingo-de-ramos-procesion-de-las-palmas-y-santa-misa/
LOCATION:Iglesia de Santa Nonia\, Calle Santa Nonia\, 26\, León\, León\, 24004\, España
CATEGORIES:Evento
END:VEVENT
BEGIN:VEVENT
DTSTART;TZID=Europe/Madrid:20240324T110000
DTEND;TZID=Europe/Madrid:20240324T120000
DTSTAMP:20260419T181311
CREATED:20240316T205444Z
LAST-MODIFIED:20240320T205848Z
UID:9501-1711278000-1711281600@www.angustiasysoledad.org
SUMMARY:Junta General de la Cofradía.
DESCRIPTION:
URL:https://www.angustiasysoledad.org/evento/junta-general-de-la-cofradia/
LOCATION:Iglesia de Santa Nonia\, Calle Santa Nonia\, 26\, León\, León\, 24004\, España
CATEGORIES:Evento
END:VEVENT
BEGIN:VEVENT
DTSTART;TZID=Europe/Madrid:20240324T220000
DTEND;TZID=Europe/Madrid:20240324T223000
DTSTAMP:20260419T181311
CREATED:20240321T180918Z
LAST-MODIFIED:20240321T180919Z
UID:11411-1711317600-1711319400@www.angustiasysoledad.org
SUMMARY:Encuentro de la Virgen con su Hijo\, en la Calle de la Amargura.
DESCRIPTION:
URL:https://www.angustiasysoledad.org/evento/encuentro-de-la-virgen-con-su-hijo-en-la-calle-de-la-amargura/
LOCATION:Iglesia de Santa Nonia\, Calle Santa Nonia\, 26\, León\, León\, 24004\, España
CATEGORIES:Evento
END:VEVENT
BEGIN:VEVENT
DTSTART;TZID=Europe/Madrid:20240325T200000
DTEND;TZID=Europe/Madrid:20240325T233000
DTSTAMP:20260419T181311
CREATED:20240315T205607Z
LAST-MODIFIED:20240320T210934Z
UID:9504-1711396800-1711409400@www.angustiasysoledad.org
SUMMARY:Procesión de la Pasión
DESCRIPTION:
URL:https://www.angustiasysoledad.org/evento/procesion-de-la-pasion/
LOCATION:Iglesia de Santa Nonia\, Calle Santa Nonia\, 26\, León\, León\, 24004\, España
CATEGORIES:Evento
END:VEVENT
BEGIN:VEVENT
DTSTART;TZID=Europe/Madrid:20240326T200000
DTEND;TZID=Europe/Madrid:20240326T233000
DTSTAMP:20260419T181311
CREATED:20240315T205707Z
LAST-MODIFIED:20240320T210638Z
UID:9507-1711483200-1711495800@www.angustiasysoledad.org
SUMMARY:Procesión del Dolor de Nuestra Madre.
DESCRIPTION:
URL:https://www.angustiasysoledad.org/evento/procesion-del-dolor-de-nuestra-madre/
LOCATION:Iglesia de Santa Nonia\, Calle Santa Nonia\, 26\, León\, León\, 24004\, España
CATEGORIES:Evento
END:VEVENT
BEGIN:VEVENT
DTSTART;TZID=Europe/Madrid:20240328T120000
DTEND;TZID=Europe/Madrid:20240328T210000
DTSTAMP:20260419T181311
CREATED:20240315T205829Z
LAST-MODIFIED:20240320T210820Z
UID:9510-1711627200-1711659600@www.angustiasysoledad.org
SUMMARY:Tradicional "Saca" en San Marcelo y Santa Nonia.
DESCRIPTION:
URL:https://www.angustiasysoledad.org/evento/tradicional-saca-en-san-marcelo-y-santa-nonia/
LOCATION:Iglesia de Santa Nonia\, Calle Santa Nonia\, 26\, León\, León\, 24004\, España
CATEGORIES:Evento
END:VEVENT
BEGIN:VEVENT
DTSTART;TZID=Europe/Madrid:20240329T180000
DTEND;TZID=Europe/Madrid:20240329T233000
DTSTAMP:20260419T181311
CREATED:20240107T205939Z
LAST-MODIFIED:20240320T210853Z
UID:9513-1711735200-1711755000@www.angustiasysoledad.org
SUMMARY:Solemne y Oficial Procesión del Santo Entierro.
DESCRIPTION:
URL:https://www.angustiasysoledad.org/evento/solemne-y-oficial-procesion-del-santo-entierro/
LOCATION:Iglesia de Santa Nonia\, Calle Santa Nonia\, 26\, León\, León\, 24004\, España
CATEGORIES:Evento
END:VEVENT
BEGIN:VEVENT
DTSTART;TZID=Europe/Madrid:20240414T080000
DTEND;TZID=Europe/Madrid:20240414T170000
DTSTAMP:20260419T181311
CREATED:20240415T081905Z
LAST-MODIFIED:20240415T081906Z
UID:11639-1713081600-1713114000@www.angustiasysoledad.org
SUMMARY:Ofrenda a Ntra. Sra. del Camino.
DESCRIPTION:
URL:https://www.angustiasysoledad.org/evento/ofrenda-a-ntra-sra-del-camino/
LOCATION:Basílica de la Virgen del Camino\, Avenida de Astorga\, 94\, Virgen del Camino\, León\, 24198\, España
CATEGORIES:Festividad
END:VEVENT
BEGIN:VEVENT
DTSTART;TZID=Europe/Madrid:20240518T110000
DTEND;TZID=Europe/Madrid:20240518T210000
DTSTAMP:20260419T181311
CREATED:20240415T082003Z
LAST-MODIFIED:20240416T163657Z
UID:11642-1716030000-1716066000@www.angustiasysoledad.org
SUMMARY:Vísperas: Virgen de la Alegría.
DESCRIPTION:
URL:https://www.angustiasysoledad.org/evento/visperas-virgen-del-camino/
LOCATION:Parque de San Francisco\, Parque de San Francisco\, León\, León\, 24005\, España
CATEGORIES:Festividad
END:VEVENT
BEGIN:VEVENT
DTSTART;TZID=Europe/Madrid:20240519T110000
DTEND;TZID=Europe/Madrid:20240519T120000
DTSTAMP:20260419T181311
CREATED:20240404T095843Z
LAST-MODIFIED:20240414T115908Z
UID:11602-1716116400-1716120000@www.angustiasysoledad.org
SUMMARY:Festividad de la Virgen de la Alegría.
DESCRIPTION:
URL:https://www.angustiasysoledad.org/evento/virgen-de-la-alegria/
LOCATION:Iglesia de Santa Nonia\, Calle Santa Nonia\, 26\, León\, León\, 24004\, España
END:VEVENT
BEGIN:VEVENT
DTSTART;TZID=Europe/Madrid:20240602T093000
DTEND;TZID=Europe/Madrid:20240602T100000
DTSTAMP:20260419T181311
CREATED:20240526T091114Z
LAST-MODIFIED:20240527T135522Z
UID:11730-1717320600-1717322400@www.angustiasysoledad.org
SUMMARY:Corpus Christi: Procesión desde Santa Nonia.
DESCRIPTION:
URL:https://www.angustiasysoledad.org/evento/solemnidad-del-corpus-christi/
LOCATION:Iglesia de Santa Nonia\, Calle Santa Nonia\, 26\, León\, León\, 24004\, España
END:VEVENT
BEGIN:VEVENT
DTSTART;TZID=Europe/Madrid:20240602T100000
DTEND;TZID=Europe/Madrid:20240602T150000
DTSTAMP:20260419T181311
CREATED:20240527T135109Z
LAST-MODIFIED:20240527T135110Z
UID:11879-1717322400-1717340400@www.angustiasysoledad.org
SUMMARY:Solemne Misa y Procesión del Corpus Christi.
DESCRIPTION:
URL:https://www.angustiasysoledad.org/evento/solemne-misa-y-procesion-del-corpus-christi/
LOCATION:Catedral de Leon\, Plaza de Regla\, León\, España
END:VEVENT
BEGIN:VEVENT
DTSTART;TZID=Europe/Madrid:20240619T134500
DTEND;TZID=Europe/Madrid:20240619T211500
DTSTAMP:20260419T181311
CREATED:20240424T142222Z
LAST-MODIFIED:20240424T142223Z
UID:11652-1718804700-1718831700@www.angustiasysoledad.org
SUMMARY:Convocatoria de Donación de Sangre.
DESCRIPTION:
URL:https://www.angustiasysoledad.org/evento/convocatoria-de-donacion-de-sangre/
LOCATION:Casa de Hermandad\, Calle Máximo Cayón Waldaliso\, 7\, León\, León\, España
CATEGORIES:Evento
END:VEVENT
BEGIN:VEVENT
DTSTART;TZID=Europe/Madrid:20240702T113000
DTEND;TZID=Europe/Madrid:20240828T203000
DTSTAMP:20260419T181311
CREATED:20240630T183300Z
LAST-MODIFIED:20240630T183936Z
UID:11952-1719919800-1724877000@www.angustiasysoledad.org
SUMMARY:Museo de Verano de Semana Santa 2024
DESCRIPTION:Lunes a Viernes: Del 2 de julio al 28 de agosto. \nHorario: De 11:30 a 14:00 y de 18:30 a 20.30 h. \n 
URL:https://www.angustiasysoledad.org/evento/museo-de-verano-de-semana-santa-2024/
LOCATION:Iglesia de Santa Nonia\, Calle Santa Nonia\, 26\, León\, León\, 24004\, España
CATEGORIES:Evento
END:VEVENT
BEGIN:VEVENT
DTSTART;TZID=Europe/Madrid:20240831T200000
DTEND;TZID=Europe/Madrid:20240831T210000
DTSTAMP:20260419T181311
CREATED:20240830T222737Z
LAST-MODIFIED:20241116T232936Z
UID:12021-1725134400-1725138000@www.angustiasysoledad.org
SUMMARY:Festividad de la Virgen de las Lágrimas.
DESCRIPTION:
URL:https://www.angustiasysoledad.org/evento/festividad-de-la-virgen-de-las-lagrimas/
LOCATION:Iglesia de Santa Nonia\, Calle Santa Nonia\, 26\, León\, León\, 24004\, España
END:VEVENT
BEGIN:VEVENT
DTSTART;TZID=Europe/Madrid:20240904T200000
DTEND;TZID=Europe/Madrid:20240904T210000
DTSTAMP:20260419T181311
CREATED:20240903T223003Z
LAST-MODIFIED:20241116T233143Z
UID:12024-1725480000-1725483600@www.angustiasysoledad.org
SUMMARY:Festividad de la Virgen de la Consolación.
DESCRIPTION:
URL:https://www.angustiasysoledad.org/evento/festividad-de-la-virgen-de-la-consolacion/
LOCATION:Iglesia de Santa Nonia\, Calle Santa Nonia\, 26\, León\, León\, 24004\, España
CATEGORIES:Festividad
END:VEVENT
BEGIN:VEVENT
DTSTART;TZID=Europe/Madrid:20241007T200000
DTEND;TZID=Europe/Madrid:20241007T210000
DTSTAMP:20260419T181311
CREATED:20241007T060256Z
LAST-MODIFIED:20241117T070536Z
UID:12031-1728331200-1728334800@www.angustiasysoledad.org
SUMMARY:I Aniversario de la Coronación Canónica de la Virgen del Mercado.
DESCRIPTION:
URL:https://www.angustiasysoledad.org/evento/i-aniversario-de-la-coronacion-canonica-de-la-virgen-del-mercado/
LOCATION:Iglesia de Nuestra Señora del Mercado.\, Plaza del Grano\, León\, León\, 24005
END:VEVENT
BEGIN:VEVENT
DTSTART;VALUE=DATE:20241017
DTEND;VALUE=DATE:20241021
DTSTAMP:20260419T181311
CREATED:20241016T210552Z
LAST-MODIFIED:20241117T070835Z
UID:12034-1729123200-1729468799@www.angustiasysoledad.org
SUMMARY:Encuentro Nacional de Jóvenes de Hermandades y Cofradías.
DESCRIPTION:
URL:https://www.angustiasysoledad.org/evento/encuentro-nacional-de-jovenes-de-hermandades-y-cofradias/
LOCATION:Colegio Maristas San José
END:VEVENT
BEGIN:VEVENT
DTSTART;TZID=Europe/Madrid:20241030T200000
DTEND;TZID=Europe/Madrid:20241030T210000
DTSTAMP:20260419T181311
CREATED:20241030T070904Z
LAST-MODIFIED:20241117T071053Z
UID:12037-1730318400-1730322000@www.angustiasysoledad.org
SUMMARY:Festividad de Santa Nonia.
DESCRIPTION:
URL:https://www.angustiasysoledad.org/evento/festividad-de-santa-nonia/
LOCATION:Iglesia de Santa Nonia\, Calle Santa Nonia\, 26\, León\, León\, 24004\, España
CATEGORIES:Festividad
END:VEVENT
BEGIN:VEVENT
DTSTART;TZID=Europe/Madrid:20241102T193000
DTEND;TZID=Europe/Madrid:20241102T203000
DTSTAMP:20260419T181311
CREATED:20241102T071117Z
LAST-MODIFIED:20241117T071249Z
UID:12040-1730575800-1730579400@www.angustiasysoledad.org
SUMMARY:Misa de Difuntos.
DESCRIPTION:
URL:https://www.angustiasysoledad.org/evento/misa-de-difuntos/
LOCATION:Iglesia de Santa Nonia\, Calle Santa Nonia\, 26\, León\, León\, 24004\, España
CATEGORIES:Festividad
END:VEVENT
BEGIN:VEVENT
DTSTART;TZID=Europe/Madrid:20241108T193000
DTEND;TZID=Europe/Madrid:20241108T203000
DTSTAMP:20260419T181311
CREATED:20241108T071305Z
LAST-MODIFIED:20241117T071648Z
UID:12043-1731094200-1731097800@www.angustiasysoledad.org
SUMMARY:Reunión del Grupo Joven.
DESCRIPTION:
URL:https://www.angustiasysoledad.org/evento/reunion-del-grupo-joven/
LOCATION:Casa de Hermandad\, Calle Máximo Cayón Waldaliso\, 7\, León\, León\, España
CATEGORIES:Evento
END:VEVENT
BEGIN:VEVENT
DTSTART;TZID=Europe/Madrid:20241116T123000
DTEND;TZID=Europe/Madrid:20241116T133000
DTSTAMP:20260419T181311
CREATED:20241116T071714Z
LAST-MODIFIED:20241117T073223Z
UID:12046-1731760200-1731763800@www.angustiasysoledad.org
SUMMARY:Reunión de Paso: Camino del Sepulcro.
DESCRIPTION:
URL:https://www.angustiasysoledad.org/evento/reunion-de-paso-camino-del-sepulcro/
LOCATION:Casa de Hermandad\, Calle Máximo Cayón Waldaliso\, 7\, León\, León\, España
CATEGORIES:Evento
ATTACH;FMTTYPE=image/png:https://www.angustiasysoledad.org/wp-content/uploads/2024/11/publicacion-reunion-camino-sepulcro.png
END:VEVENT
BEGIN:VEVENT
DTSTART;TZID=Europe/Madrid:20241117T170000
DTEND;TZID=Europe/Madrid:20241117T210000
DTSTAMP:20260419T181311
CREATED:20241116T233447Z
LAST-MODIFIED:20241116T233447Z
UID:12027-1731862800-1731877200@www.angustiasysoledad.org
SUMMARY:Concierto Benéfico “Música por la DANA”.
DESCRIPTION:
URL:https://www.angustiasysoledad.org/evento/concierto-benefico-musica-por-la-dana/
LOCATION:Colegio Maristas San José
END:VEVENT
BEGIN:VEVENT
DTSTART;TZID=Europe/Madrid:20241122T193000
DTEND;TZID=Europe/Madrid:20241122T203000
DTSTAMP:20260419T181311
CREATED:20241115T072117Z
LAST-MODIFIED:20241117T073124Z
UID:12050-1732303800-1732307400@www.angustiasysoledad.org
SUMMARY:Festividad de Santa Cecilia.
DESCRIPTION:
URL:https://www.angustiasysoledad.org/evento/festividad-de-santa-cecilia/
LOCATION:León\, C/Máximo Cayon Waldaliso\, 7\, León\, León\, 24005\, España
CATEGORIES:Evento
END:VEVENT
END:VCALENDAR